BEGIN:VCALENDAR
VERSION:2.0
PRODID:-//Economic Development Corporation - ECPv6.15.20//NONSGML v1.0//EN
CALSCALE:GREGORIAN
METHOD:PUBLISH
X-WR-CALNAME:Economic Development Corporation
X-ORIGINAL-URL:https://greenecountyedc.com
X-WR-CALDESC:Events for Economic Development Corporation
REFRESH-INTERVAL;VALUE=DURATION:PT1H
X-Robots-Tag:noindex
X-PUBLISHED-TTL:PT1H
BEGIN:VTIMEZONE
TZID:America/New_York
BEGIN:DAYLIGHT
TZOFFSETFROM:-0500
TZOFFSETTO:-0400
TZNAME:EDT
DTSTART:20190310T070000
END:DAYLIGHT
BEGIN:STANDARD
TZOFFSETFROM:-0400
TZOFFSETTO:-0500
TZNAME:EST
DTSTART:20191103T060000
END:STANDARD
BEGIN:DAYLIGHT
TZOFFSETFROM:-0500
TZOFFSETTO:-0400
TZNAME:EDT
DTSTART:20200308T070000
END:DAYLIGHT
BEGIN:STANDARD
TZOFFSETFROM:-0400
TZOFFSETTO:-0500
TZNAME:EST
DTSTART:20201101T060000
END:STANDARD
BEGIN:DAYLIGHT
TZOFFSETFROM:-0500
TZOFFSETTO:-0400
TZNAME:EDT
DTSTART:20210314T070000
END:DAYLIGHT
BEGIN:STANDARD
TZOFFSETFROM:-0400
TZOFFSETTO:-0500
TZNAME:EST
DTSTART:20211107T060000
END:STANDARD
END:VTIMEZONE
BEGIN:VEVENT
DTSTART;TZID=America/New_York:20200520T150000
DTEND;TZID=America/New_York:20200520T160000
DTSTAMP:20260420T130254
CREATED:20200514T162429Z
LAST-MODIFIED:20221031T141455Z
UID:10000060-1589986800-1589990400@greenecountyedc.com
SUMMARY:Greene County Economic Development Corporation Meeting
DESCRIPTION:NOTICE IS HEREBY GIVEN\, that a virtual Meeting of the Greene County Economic Development Corporation will be held on Wednesday May 20\, 2020\, at 3:00 p.m. \nMembers of the public may view the meeting on the Greene County YouTube channel at https://www.youtube.com/channel/UC0mwTvjUz_XyhJ83epMPFpQ/live.
URL:https://greenecountyedc.com/event/greene-county-economic-development-corporation-meeting/
LOCATION:Greene County Office Building: Room 419\, 411 Main Street\, Catskill\, NY\, 12414\, United States
CATEGORIES:Board Meetings
END:VEVENT
END:VCALENDAR