BEGIN:VCALENDAR
VERSION:2.0
PRODID:-//Economic Development Corporation - ECPv6.15.20//NONSGML v1.0//EN
CALSCALE:GREGORIAN
METHOD:PUBLISH
X-ORIGINAL-URL:https://greenecountyedc.com
X-WR-CALDESC:Events for Economic Development Corporation
REFRESH-INTERVAL;VALUE=DURATION:PT1H
X-Robots-Tag:noindex
X-PUBLISHED-TTL:PT1H
BEGIN:VTIMEZONE
TZID:America/New_York
BEGIN:DAYLIGHT
TZOFFSETFROM:-0500
TZOFFSETTO:-0400
TZNAME:EDT
DTSTART:20180311T070000
END:DAYLIGHT
BEGIN:STANDARD
TZOFFSETFROM:-0400
TZOFFSETTO:-0500
TZNAME:EST
DTSTART:20181104T060000
END:STANDARD
BEGIN:DAYLIGHT
TZOFFSETFROM:-0500
TZOFFSETTO:-0400
TZNAME:EDT
DTSTART:20190310T070000
END:DAYLIGHT
BEGIN:STANDARD
TZOFFSETFROM:-0400
TZOFFSETTO:-0500
TZNAME:EST
DTSTART:20191103T060000
END:STANDARD
BEGIN:DAYLIGHT
TZOFFSETFROM:-0500
TZOFFSETTO:-0400
TZNAME:EDT
DTSTART:20200308T070000
END:DAYLIGHT
BEGIN:STANDARD
TZOFFSETFROM:-0400
TZOFFSETTO:-0500
TZNAME:EST
DTSTART:20201101T060000
END:STANDARD
END:VTIMEZONE
BEGIN:VEVENT
DTSTART;TZID=America/New_York:20190522T153000
DTEND;TZID=America/New_York:20190522T160000
DTSTAMP:20260421T062119
CREATED:20190603T155452Z
LAST-MODIFIED:20190603T155453Z
UID:10000045-1558539000-1558540800@greenecountyedc.com
SUMMARY:Initial Meeting of the Greene County Economic Development Corporation
DESCRIPTION:NOTICE IS HEREBY GIVEN\, that the Initial Meeting of the Greene County Economic Development Corporation will be held on Wednesday\, May 22\, at 3:30 p.m. in the Greene County Office Building\, 4th Floor\, Room 419\, 411 Main Street\, Catskill\, New York.
URL:https://greenecountyedc.com/event/initial-meeting-of-the-greene-county-economic-development-corporation/
LOCATION:Greene County Office Building: Room 419\, 411 Main Street\, Catskill\, NY\, 12414\, United States
CATEGORIES:Board Meetings
END:VEVENT
BEGIN:VEVENT
DTSTART;TZID=America/New_York:20190522T160000
DTEND;TZID=America/New_York:20190522T170000
DTSTAMP:20260421T062119
CREATED:20190603T155354Z
LAST-MODIFIED:20190603T155354Z
UID:10000044-1558540800-1558544400@greenecountyedc.com
SUMMARY:Meeting of the Greene County Economic Development Corporation
DESCRIPTION:NOTICE IS HEREBY GIVEN\, that a Meeting of the Greene County Economic Development Corporation will be held on Wednesday\, May 22\, at 4:00 p.m. in the Greene County Office Building\, 4th Floor\, Room 419\, 411 Main Street\, Catskill\, New York.
URL:https://greenecountyedc.com/event/meeting-of-the-greene-county-economic-development-corporation/
LOCATION:Greene County Office Building: Room 419\, 411 Main Street\, Catskill\, NY\, 12414\, United States
CATEGORIES:Board Meetings
END:VEVENT
END:VCALENDAR