BEGIN:VCALENDAR
VERSION:2.0
PRODID:-//Economic Development Corporation - ECPv6.15.20//NONSGML v1.0//EN
CALSCALE:GREGORIAN
METHOD:PUBLISH
X-ORIGINAL-URL:https://greenecountyedc.com
X-WR-CALDESC:Events for Economic Development Corporation
REFRESH-INTERVAL;VALUE=DURATION:PT1H
X-Robots-Tag:noindex
X-PUBLISHED-TTL:PT1H
BEGIN:VTIMEZONE
TZID:America/New_York
BEGIN:DAYLIGHT
TZOFFSETFROM:-0500
TZOFFSETTO:-0400
TZNAME:EDT
DTSTART:20190310T070000
END:DAYLIGHT
BEGIN:STANDARD
TZOFFSETFROM:-0400
TZOFFSETTO:-0500
TZNAME:EST
DTSTART:20191103T060000
END:STANDARD
BEGIN:DAYLIGHT
TZOFFSETFROM:-0500
TZOFFSETTO:-0400
TZNAME:EDT
DTSTART:20200308T070000
END:DAYLIGHT
BEGIN:STANDARD
TZOFFSETFROM:-0400
TZOFFSETTO:-0500
TZNAME:EST
DTSTART:20201101T060000
END:STANDARD
BEGIN:DAYLIGHT
TZOFFSETFROM:-0500
TZOFFSETTO:-0400
TZNAME:EDT
DTSTART:20210314T070000
END:DAYLIGHT
BEGIN:STANDARD
TZOFFSETFROM:-0400
TZOFFSETTO:-0500
TZNAME:EST
DTSTART:20211107T060000
END:STANDARD
END:VTIMEZONE
BEGIN:VEVENT
DTSTART;TZID=America/New_York:20200205T160000
DTEND;TZID=America/New_York:20200205T170000
DTSTAMP:20260420T171030
CREATED:20190603T161607Z
LAST-MODIFIED:20200122T180044Z
UID:10000052-1580918400-1580922000@greenecountyedc.com
SUMMARY:Greene County Economic Development Corporation Annual Meeting
DESCRIPTION:NOTICE IS HEREBY GIVEN\, that the Annual Meeting of the Greene County Economic Development Corporation will be held on the Wednesday February 5\, 2020\, at 4:00 p.m. in the Greene County Office of Economic Development\, Tourism & Planning Conference Room 427\, 4th Floor\, Room 419\, 411 Main Street\, Catskill\, New York.  The meeting is open to the public. For additional information\, please contact the Executive Director Karl Heck. 518-719-3290.
URL:https://greenecountyedc.com/event/gcedc-monthly-meeting-2020-02-05/
LOCATION:Greene County Office Building: Room 419\, 411 Main Street\, Catskill\, NY\, 12414\, United States
CATEGORIES:Board Meetings
END:VEVENT
END:VCALENDAR