BEGIN:VCALENDAR
VERSION:2.0
PRODID:-//Economic Development Corporation - ECPv6.15.20//NONSGML v1.0//EN
CALSCALE:GREGORIAN
METHOD:PUBLISH
X-WR-CALNAME:Economic Development Corporation
X-ORIGINAL-URL:https://greenecountyedc.com
X-WR-CALDESC:Events for Economic Development Corporation
REFRESH-INTERVAL;VALUE=DURATION:PT1H
X-Robots-Tag:noindex
X-PUBLISHED-TTL:PT1H
BEGIN:VTIMEZONE
TZID:America/New_York
BEGIN:DAYLIGHT
TZOFFSETFROM:-0500
TZOFFSETTO:-0400
TZNAME:EDT
DTSTART:20190310T070000
END:DAYLIGHT
BEGIN:STANDARD
TZOFFSETFROM:-0400
TZOFFSETTO:-0500
TZNAME:EST
DTSTART:20191103T060000
END:STANDARD
BEGIN:DAYLIGHT
TZOFFSETFROM:-0500
TZOFFSETTO:-0400
TZNAME:EDT
DTSTART:20200308T070000
END:DAYLIGHT
BEGIN:STANDARD
TZOFFSETFROM:-0400
TZOFFSETTO:-0500
TZNAME:EST
DTSTART:20201101T060000
END:STANDARD
BEGIN:DAYLIGHT
TZOFFSETFROM:-0500
TZOFFSETTO:-0400
TZNAME:EDT
DTSTART:20210314T070000
END:DAYLIGHT
BEGIN:STANDARD
TZOFFSETFROM:-0400
TZOFFSETTO:-0500
TZNAME:EST
DTSTART:20211107T060000
END:STANDARD
END:VTIMEZONE
BEGIN:VEVENT
DTSTART;TZID=America/New_York:20200401T160000
DTEND;TZID=America/New_York:20200401T170000
DTSTAMP:20260420T142510
CREATED:20190603T161607Z
LAST-MODIFIED:20200331T111646Z
UID:10000053-1585756800-1585760400@greenecountyedc.com
SUMMARY:Greene County Economic Development Corporation Monthly Meeting
DESCRIPTION:MEETING CANCELLED – NOTICE IS HEREBY GIVEN\, that a Meeting of the Greene County Economic Development Corporation scheduled for Wednesday\, April 1\, 2020 has been CANCELLED due to Greene County’s Response to the COVID-19 Pandemic.
URL:https://greenecountyedc.com/event/gcedc-monthly-meeting-2020-04-01/
LOCATION:Greene County Office Building: Room 419\, 411 Main Street\, Catskill\, NY\, 12414\, United States
CATEGORIES:Board Meetings
END:VEVENT
END:VCALENDAR